{"text_format":"2","workbook":"xlsx","n_sheets":1,"sheets":["工作表1"],"not_rendered":{"charts":0,"images":0,"macros":0,"external_links":0,"defined_names":0,"comments":0,"pivot_tables":0},"unopened":[],"bounds":{"document_bytes":16777216,"sheet_cells":100000,"run_cost":"one","rows_first":2000,"rows_last":500,"rows_between":2000,"halvings":0,"cell_chars":16384,"cell_head_chars":4096},"cells_cut":0,"cells_raw":0,"read":"whole","date_system":"1900"}

{"sheet":"工作表1","index":0,"n_rows":61,"n_cols":8,"rows_kept":61,"cut":false,"hidden":false,"merged":[]}
[1,"小門框(標準：噴塗Q235A-1.5t)\n",null,"SUS304-1.5t發紋不銹鋼","加價",641.3966442477855,1500,"停"]
[2,"小門框(標準：噴塗Q235A-1.5t)\n",null,"噴塗Q235A-1.2t","加價",-42.499115044247787,0,"停"]
[3,"小門框(標準：噴塗Q235A-1.5t)\n",null,"SUS304-1.2t發紋不銹鋼","加價",556.31341592920353,1300,"停"]
[4,"小門框(標準：噴塗Q235A-1.5t)\n",null,"SUS304-1.5t鏡面不銹鋼","加價",844.28741946902403,2300,"停"]
[5,"小門框(標準：噴塗Q235A-1.5t)\n",null,"SUS304-1.5t鏡面不銹鋼 鍍鈦","加價",1433.3251539823018,3500,"停"]
[6,"小門框(標準：噴塗Q235A-1.5t)\n",null,"SUS304-1.5t鏡面不銹鋼 蝕刻","加價",1164.9857415929189,5000,"停"]
[7,"小門框(標準：噴塗Q235A-1.5t)\n",null,"SUS304-1.5t鏡面不銹鋼 蝕刻 鍍鈦","加價",1727.844021238941,7500,"停"]
[8,"小型門框 髮紋不鏽鋼 鍍鈦",null,"2P-CO ≦OP-800~1100",null,{"$f":"#REF!*0.6","v":{"$error":"#REF!"}},2100,"停"]
[9,"小型門框 鏡面不鏽鋼",null,"2P-CO ≦OP-800~1100",null,{"$f":"#REF!*0.6","v":{"$error":"#REF!"}},2000,"停"]
[10,"小型門框 鏡面不鏽鋼 鍍鈦",null,"2P-CO ≦OP-800~1100",null,{"$f":"#REF!*0.6","v":{"$error":"#REF!"}},2800,"停"]
[11,"小型門框 髮紋不鏽鋼",null,"2P-CO≦OP-800~1100*2300H",null,{"$f":"#REF!*0.6","v":{"$error":"#REF!"}},700,"停"]
[12,"小型門框 仿鍍鈦烤漆",null,"2P-CO ≦OP-800~1100",null,{"$f":"#REF!*0.6","v":{"$error":"#REF!"}},2300,"停"]
[13,"大型門框 髮紋不鏽鋼HH=2100 A=240",null,"OP-800~1100  A值≦380",null,{"$f":"#REF!*0.6","v":{"$error":"#REF!"}},10700,"停"]
[14,"大型門框 髮紋不鏽鋼鍍鈦 HH=2100 A=240",null,"OP-800~1100  A值≦380",null,{"$f":"#REF!*0.6","v":{"$error":"#REF!"}},17500,"停"]
[15,"大型門框 鏡面不鏽鋼 HH=2100 A=240",null,"OP-800~1100  A值≦380",null,{"$f":"#REF!*0.6","v":{"$error":"#REF!"}},14200,"停"]
[16,"大型門框 鏡面不鏽鋼 鍍鈦 HH=2100 A=240",null,"OP-800~1100  A值≦380",null,{"$f":"#REF!*0.6","v":{"$error":"#REF!"}},21800,"停"]
[17,"大型門框 仿鍍鈦烤漆 HH=2100 A=240",null,"OP-800~1100  A值≦380",null,{"$f":"#REF!*0.6","v":{"$error":"#REF!"}},93600,"停"]
[18,"小型門框附幕板 髮紋不鏽鋼",null,"OP-800~1100 全高≦3000",null,{"$f":"#REF!*0.6","v":{"$error":"#REF!"}},12200,"停"]
[19,"小型門框附幕板 髮紋不鏽鋼 鍍鈦",null,"OP-800~1100 全高≦3000",null,{"$f":"#REF!*0.6","v":{"$error":"#REF!"}},18600,"停"]
[20,"小型門框附幕板 鏡面不鏽鋼",null,"OP-800~1100 全高≦3000",null,{"$f":"#REF!*0.6","v":{"$error":"#REF!"}},15200,"停"]
[21,"小型門框附幕板 鏡面不鏽鋼 鍍鈦",null,"OP-800~1100 全高≦3000",null,{"$f":"#REF!*0.6","v":{"$error":"#REF!"}},21300,"停"]
[22,"小框附幕板  仿鍍鈦烤漆",null,"OP-800~1100 全高≦3000",null,{"$f":"#REF!*0.6","v":{"$error":"#REF!"}},13100,"停"]
[23,"大型門框附幕板 髮紋不鏽鋼",null,"OP-800~1100 全高≦3000",null,{"$f":"#REF!*0.6","v":{"$error":"#REF!"}},26200,"停"]
[24,"大型門框附幕板 髮紋不鏽鋼 鍍鈦",null,"OP-800~1100 全高≦3000",null,{"$f":"#REF!*0.6","v":{"$error":"#REF!"}},34500,"停"]
[25,"大型門框附幕板 鏡面不鏽鋼",null,"OP-800~1100 全高≦3000",null,{"$f":"#REF!*0.6","v":{"$error":"#REF!"}},29100,"停"]
[26,"大型門框附幕板 鏡面不鏽鋼 鍍鈦",null,"OP-800~1100 全高≦3000",null,{"$f":"#REF!*0.6","v":{"$error":"#REF!"}},37300,"停"]
[27,"大框附幕板  仿鍍鈦烤漆",null,"OP-800~1100  A值≦380",null,{"$f":"#REF!*0.6","v":{"$error":"#REF!"}},21500,"停"]
[28,"一體式門框",null,"OP-800~1100全高≦3000",null,12000,5600,"停"]
[29,"小型門框 髮紋不鏽鋼 鍍鈦",null,"2S-2P  OP-1100~1200W",null,{"$f":"#REF!*0.6","v":{"$error":"#REF!"}},4000,"停"]
[30,"小型門框 鏡面不鏽鋼",null,"2S-2P  OP-1100~1200W",null,{"$f":"#REF!*0.6","v":{"$error":"#REF!"}},3500,"停"]
[31,"小型門框 髮紋不鏽鋼 鍍鈦",null,"2S-2P  OP-1100~1200W",null,{"$f":"#REF!*0.6","v":{"$error":"#REF!"}},4000,"停"]
[32,"大型門框 髮紋不鏽鋼",null,"2S-1100.1200  A值≦380",null,{"$f":"#REF!*0.6","v":{"$error":"#REF!"}},10100,"停"]
[33,"大型門框 髮紋不鏽鋼 鍍鈦",null,"2S-1100.1200  A值≦380",null,{"$f":"#REF!*0.6","v":{"$error":"#REF!"}},18400,"停"]
[34,"大型門框 鏡面不鏽鋼",null,"2S-1100.1200  A值≦380",null,{"$f":"#REF!*0.6","v":{"$error":"#REF!"}},16700,"停"]
[35,"大型門框 鏡面不鏽鋼　鍍鈦",null,"2S-1100.1200  A值≦380",null,{"$f":"#REF!*0.6","v":{"$error":"#REF!"}},22300,"停"]
[36,"大型門框 髮紋不鏽鋼",null,"2S-1400~1700W  A值≦380",null,{"$f":"#REF!*0.6","v":{"$error":"#REF!"}},12700,"停"]
[37,"大型門框 髮紋不鏽鋼",null,"4C-1700~2300W  A值≦380",null,{"$f":"#REF!*0.6","v":{"$error":"#REF!"}},19700,"停"]
[38,"小型門框 SH鍍鈦(遠東特殊色)",null,"2P-CO ≦OP-800~1100",null,{"$f":"#REF!*0.6","v":{"$error":"#REF!"}},3700,"停"]
[39,"小型門框 SM鍍鈦(遠東特殊色)",null,"2P-CO ≦OP-800~1100",null,{"$f":"#REF!*0.6","v":{"$error":"#REF!"}},4300,"停"]
[40,"小型門框  亂紋鍍鈦(遠東特殊色)",null,"2P-CO ≦OP-800~1100",null,{"$f":"#REF!*0.6","v":{"$error":"#REF!"}},7800,"停"]
[41,"小型門框  霧珠鍍鈦(遠東特殊色)",null,"2P-CO ≦OP-800~1100",null,{"$f":"#REF!*0.6","v":{"$error":"#REF!"}},8000,"停"]
[42,"大型門框 SH鍍鈦(遠東特殊色)",null,"OP-800~1100  A值≦380",null,{"$f":"#REF!*0.6","v":{"$error":"#REF!"}},28200,"停"]
[43,"大型門框 SM鍍鈦(遠東特殊色)",null,"OP-800~1100  A值≦380",null,{"$f":"#REF!*0.6","v":{"$error":"#REF!"}},32500,"停"]
[44,"大型門框  亂紋鍍鈦(遠東特殊色)",null,"OP-800~1100  A值≦380",null,{"$f":"#REF!*0.6","v":{"$error":"#REF!"}},34500,"停"]
[45,"大型門框  霧珠鍍鈦(遠東特殊色)",null,"OP-800~1100  A值≦380",null,{"$f":"#REF!*0.6","v":{"$error":"#REF!"}},34900,"停"]
[46,"小框附幕板 SH鍍鈦(遠東特殊色)",null,"OP-800~1100 全高≦3000",null,{"$f":"#REF!*0.6","v":{"$error":"#REF!"}},26000,"停"]
[47,"小框附幕板 SM鍍鈦(遠東特殊色)",null,"OP-800~1100 全高≦3000",null,{"$f":"#REF!*0.6","v":{"$error":"#REF!"}},28500,"停"]
[48,"小框附幕板  亂紋鍍鈦(遠東特殊色)",null,"OP-800~1100 全高≦3000",null,{"$f":"#REF!*0.6","v":{"$error":"#REF!"}},29800,"停"]
[49,"小框附幕板  霧珠鍍鈦(遠東特殊色)",null,"OP-800~1100 全高≦3000",null,{"$f":"#REF!*0.6","v":{"$error":"#REF!"}},30000,"停"]
[50,"大框附幕板 SH鍍鈦(遠東特殊色)",null,"OP-800~900 全高≦3000",null,{"$f":"#REF!*0.6","v":{"$error":"#REF!"}},49700,"停"]
[51,"大框附幕板 SM鍍鈦(遠東特殊色)",null,"OP-800~900 全高≦3000",null,{"$f":"#REF!*0.6","v":{"$error":"#REF!"}},52400,"停"]
[52,"大框附幕板 SH鍍鈦(遠東特殊色)",null,"OP-1000~1100全高≦3000",null,{"$f":"#REF!*0.6","v":{"$error":"#REF!"}},50670,"停"]
[53,"大框附幕板 SM鍍鈦(遠東特殊色)",null,"OP-1000~1100全高≦3000",null,{"$f":"#REF!*0.6","v":{"$error":"#REF!"}},56610,"停"]
[54,"大框附幕板  亂紋鍍鈦(遠東特殊色)",null,"OP-800~900  A值≦380",null,{"$f":"#REF!*0.6","v":{"$error":"#REF!"}},55440,"停"]
[55,"大框附幕板  亂紋鍍鈦(遠東特殊色)",null,"OP-1000~1100  A值≦380",null,{"$f":"#REF!*0.6","v":{"$error":"#REF!"}},60210,"停"]
[56,"大框附幕板  霧珠鍍鈦(遠東特殊色)",null,"OP-800~900  A值≦380",null,{"$f":"#REF!*0.6","v":{"$error":"#REF!"}},55890,"停"]
[57,"大框附幕板  霧珠鍍鈦(遠東特殊色)",null,"OP-1000~1100  A值≦380",null,{"$f":"#REF!*0.6","v":{"$error":"#REF!"}},60660,"停"]
[58,"小型門框 SH鍍鈦(遠東特殊色)",null,"2S-2P  OP-1100~1200W",null,{"$f":"#REF!*0.6","v":{"$error":"#REF!"}},8010,"停"]
[59,"小型門框 SM鍍鈦(遠東特殊色)",null,"2S-2P  OP-1100~1200W",null,{"$f":"#REF!*0.6","v":{"$error":"#REF!"}},9180,"停"]
[60,"大型門框 SH鍍鈦(遠東特殊色)",null,"2S-1100.1200  A值≦380",null,{"$f":"#REF!*0.6","v":{"$error":"#REF!"}},30240,"停"]
[61,"大型門框 SM鍍鈦(遠東特殊色)",null,"2S-1100.1200  A值≦380",null,{"$f":"#REF!*0.6","v":{"$error":"#REF!"}},34200,"停"]